BEGIN:VCALENDAR
VERSION:2.0
PRODID:-//HY Sinav Takvimi//TR
CALSCALE:GREGORIAN
METHOD:PUBLISH
BEGIN:VEVENT
UID:828470a20d16cd18ffd23c7d560a9d85@hyildiz.com
DTSTAMP:20260423T093454Z
DTSTART:20260613T060000Z
DTEND:20260614T160000Z
SUMMARY:Final Sınavı Başlangıç
DESCRIPTION:
LOCATION:
END:VEVENT
END:VCALENDAR
