BEGIN:VCALENDAR
VERSION:2.0
PRODID:-//HY Sinav Takvimi//TR
CALSCALE:GREGORIAN
METHOD:PUBLISH
BEGIN:VEVENT
UID:10256b213112a47290acb7227a3a42fb@hyildiz.com
DTSTAMP:20260423T093454Z
DTSTART:20260725T060000Z
DTEND:20260726T150000Z
SUMMARY:Bütünleme Sınavı Başlangıç
DESCRIPTION:
LOCATION:
END:VEVENT
END:VCALENDAR
